BEGIN:VCALENDAR
VERSION:2.0
PRODID:-//wp-events-plugin.com//7.2.3.1//EN
TZID:Europe/Zurich
X-WR-TIMEZONE:Europe/Zurich
BEGIN:VEVENT
UID:62@shop.hrf-bike.ch
DTSTART;TZID=Europe/Zurich:20260630T181500
DTEND;TZID=Europe/Zurich:20260630T210000
DTSTAMP:20260204T090300Z
URL:https://shop.hrf-bike.ch/events/bike-treff-2026-04-07-2026-04-14-2026-
 04-21-2026-04-28-2026-05-05-2026-05-12-2026-05-19-2026-05-26-2026-06-02-20
 26-06-09-2026-06-16-2026-06-23-2026-06-30/
SUMMARY:Bike Treff
DESCRIPTION:Ab April treffen wir uns jeden Dienstag um 18.15 Uhr beim Resta
 urant Gibswilerstube in Gibswil.
ATTACH;FMTTYPE=image/jpeg:https://shop.hrf-bike.ch/wp-content/uploads/2024
 /10/raymon-croatia-2020-1341_kl.jpg
CATEGORIES:Bike Treff
LOCATION:Restaurant Gibswilerstube\, Tösstalstrasse 466\, Gibswil\, 8498\,
  Schweiz
X-APPLE-STRUCTURED-LOCATION;VALUE=URI;X-ADDRESS=Tösstalstrasse 466\, Gibsw
 il\, 8498\, Schweiz;X-APPLE-RADIUS=100;X-TITLE=Restaurant Gibswilerstube:g
 eo:0,0
END:VEVENT
BEGIN:VTIMEZONE
TZID:Europe/Zurich
X-LIC-LOCATION:Europe/Zurich
BEGIN:DAYLIGHT
DTSTART:20260329T030000
TZOFFSETFROM:+0100
TZOFFSETTO:+0200
TZNAME:CEST
END:DAYLIGHT
END:VTIMEZONE
END:VCALENDAR